BEGIN:VCALENDAR
VERSION:2.0
PRODID:-//Tukios.com/
BEGIN:VEVENT
UID:2a522654-7fda-445d-a305-104394cb01e6@www.sandersfuneralcare.com
DTSTAMP:20260422T232245Z
DTSTART:20260425T180000Z
DTEND:20260425T190000Z
SUMMARY:Funeral Service
DESCRIPTION:
URL:https://www.sandersfuneralcare.com/obituaries/kevin-foy
LOCATION:Sanders Funeral Care Crawfordsville 315 S Washington Street  
	Crawfordsville IN 47933
GEO:40.038646;-86.901789
END:VEVENT
END:VCALENDAR