BEGIN:VCALENDAR
VERSION:2.0
PRODID:-//Tukios.com/
BEGIN:VEVENT
UID:23ad810d-4197-46a4-a505-f55144c241c3@www.sandersfuneralcare.com
DTSTAMP:20260422T232301Z
DTSTART:20260425T170000Z
DTEND:20260425T180000Z
SUMMARY:Visitation
DESCRIPTION:
URL:https://www.sandersfuneralcare.com/obituaries/kevin-foy
LOCATION:Sanders Funeral Care Crawfordsville 315 S Washington Street  
	Crawfordsville IN 47933
GEO:40.038646;-86.901789
END:VEVENT
END:VCALENDAR