BEGIN:VCALENDAR
VERSION:2.0
PRODID:-//Tukios.com/
BEGIN:VEVENT
UID:e5054130-adb5-40a9-9951-ea4c0152e23e@www.sandersfuneralcare.com
DTSTAMP:20260422T192649Z
DTSTART:20260424T150000Z
DTEND:20260424T160000Z
SUMMARY:Funeral Service
DESCRIPTION:
URL:https://www.sandersfuneralcare.com/obituaries/marian-cass
LOCATION:Sanders Funeral Care Crawfordsville 315 S Washington Street  
	Crawfordsville IN 47933
GEO:40.038646;-86.901789
END:VEVENT
END:VCALENDAR