BEGIN:VCALENDAR
VERSION:2.0
PRODID:-//Tukios.com/
BEGIN:VEVENT
UID:cd7564bd-6001-492c-abe7-f3300b2eec14@www.sandersfuneralcare.com
DTSTAMP:20260422T192942Z
DTSTART:20260424T140000Z
DTEND:20260424T150000Z
SUMMARY:Visitation
DESCRIPTION:
URL:https://www.sandersfuneralcare.com/obituaries/marian-cass
LOCATION:Sanders Funeral Care Crawfordsville 315 S Washington Street  
	Crawfordsville IN 47933
GEO:40.038646;-86.901789
END:VEVENT
END:VCALENDAR